BEGIN:VCALENDAR
VERSION:2.0
PRODID:-//www.yorkcac.org//NONSGML kigkonsult.se iCalcreator 2.30.10//
CALSCALE:GREGORIAN
METHOD:PUBLISH
UID:bfea952e-8aae-42e8-97c8-49ed16d036b9
X-WR-CALDESC:We are offering a limited number of Stewards of Children works
 hops delivered in a webinar format. Our goal is to make our community a sa
 fe place for kids to grow up by teaching adults how to  prevent\, recogniz
 e and react responsibly to child sexual abuse.\nThe York County CAC is pro
 ud to offer Stewards of Children at no cost to parents\, educators\, and e
 veryone in the community who cares about protecting children.  Continuing 
 education credits are available for teachers\, nurses\, dentists/dental hy
 gienists\, & early childhood and school-age professionals in Pennsylvania.
    \nClick below to register for an upcoming webinar open to all members o
 f our community.
X-WR-RELCALID:bc0b4518aaacd2abc4c10b6e8bc1e993
X-WR-TIMEZONE:America/New_York
BEGIN:VTIMEZONE
TZID:America/New_York
BEGIN:STANDARD
TZNAME:EST
DTSTART:20221106T020000
TZOFFSETFROM:-0400
TZOFFSETTO:-0500
RDATE:20231105T020000
END:STANDARD
BEGIN:DAYLIGHT
TZNAME:EDT
DTSTART:20220313T020000
TZOFFSETFROM:-0500
TZOFFSETTO:-0400
RDATE:20230312T020000
RDATE:20240310T020000
END:DAYLIGHT
END:VTIMEZONE
BEGIN:VEVENT
UID:f3f23a4f-9679-41be-b0b4-73542c828069
DTSTAMP:20260421T103702Z
DESCRIPTION:We are offering a limited number of Stewards of Children worksh
 ops delivered in a webinar format. Our goal is to make our community a saf
 e place for kids to grow up by teaching adults how to  prevent\, recognize
  and react responsibly to child sexual abuse.\nThe York County CAC is prou
 d to offer Stewards of Children at no cost to parents\, educators\, and ev
 eryone in the community who cares about protecting children.  Continuing e
 ducation credits are available for teachers\, nurses\, dentists/dental hyg
 ienists\, & early childhood and school-age professionals in Pennsylvania. 
   \nClick below to register for an upcoming webinar open to all members of
  our community.
DTSTART;TZID=America/New_York:20230310T130000
DTEND;TZID=America/New_York:20230310T150000
LOCATION:Online
SUMMARY:Stewards of Children Live Webinar
END:VEVENT
END:VCALENDAR
