BEGIN:VCALENDAR
VERSION:2.0
PRODID:-//www.yorkcac.org//NONSGML kigkonsult.se iCalcreator 2.30.10//
CALSCALE:GREGORIAN
METHOD:PUBLISH
UID:6f494ab6-e64d-4ca5-a6df-b87d6fd6c6ca
X-WR-CALDESC:This April\, help us turn awareness into action for Child Abus
 e Prevention Month. Our Pinwheel Gardens are a powerful way to show your s
 upport and spark meaningful conversations in your community.\n\nEach garde
 n includes 50 vibrant blue pinwheels - a national symbol of hope\, resilie
 nce\, and the happy\, healthy childhood every child deserves - plus a yard
  sign to proudly display your commitment to prevention.\n\nPinwheel Garden
 s will be available for pick-up at our agency.\n\nJoin us in creating a vi
 sual movement of hope\, one pinwheel at a time. 💙
X-WR-RELCALID:a4832298fe1cb6f73a929d43f4d23d7d
X-WR-TIMEZONE:America/New_York
BEGIN:VTIMEZONE
TZID:America/New_York
BEGIN:STANDARD
TZNAME:EST
DTSTART:20251102T020000
TZOFFSETFROM:-0400
TZOFFSETTO:-0500
RDATE:20261101T020000
END:STANDARD
BEGIN:DAYLIGHT
TZNAME:EDT
DTSTART:20260308T020000
TZOFFSETFROM:-0500
TZOFFSETTO:-0400
RDATE:20270314T020000
END:DAYLIGHT
END:VTIMEZONE
BEGIN:VEVENT
UID:5149ce6e-8b8d-4c53-8372-7233462fb89b
DTSTAMP:20260423T122405Z
DESCRIPTION:This April\, help us turn awareness into action for Child Abuse
  Prevention Month. Our Pinwheel Gardens are a powerful way to show your su
 pport and spark meaningful conversations in your community.\n\nEach garden
  includes 50 vibrant blue pinwheels - a national symbol of hope\, resilien
 ce\, and the happy\, healthy childhood every child deserves - plus a yard 
 sign to proudly display your commitment to prevention.\n\nPinwheel Gardens
  will be available for pick-up at our agency.\n\nJoin us in creating a vis
 ual movement of hope\, one pinwheel at a time. 💙
DTSTART;TZID=America/New_York:20260401T060000
DTEND;TZID=America/New_York:20260430T060001
LOCATION:
SUMMARY:Pinwheels For Prevention 2026
END:VEVENT
END:VCALENDAR
