BEGIN:VCALENDAR
VERSION:2.0
PRODID:-//www.yorkcac.org//NONSGML kigkonsult.se iCalcreator 2.30.10//
CALSCALE:GREGORIAN
METHOD:PUBLISH
UID:c27603c8-d273-4d14-a41c-ad08735bd9c6
X-WR-CALDESC:York County CAC and Penn CAC are excited to provide Project FO
 RECAST (Foundations for OutReach through Experiential Child Advocacy Studi
 es Training).\n\nThis free two-day training will provide the MDT with the 
 opportunity to navigate through a simulation of a child abuse investigatio
 n.\n\nDay 1 of the training (virtual) will explore the 12 core concepts of
  understanding traumatic stress in children and families.\n\nDay 2 (in-per
 son) will be a simulation of an abuse investigation: Go in-depth on a fore
 nsic investigation with the case of nine-year old Samara Green. Participan
 ts will learn how to identify\, gather\, and share information before maki
 ng final recommendations for the case\, such as determining the need for a
 rrests or foster care. This scenario relies heavily on participant learnin
 g to carefully engage alleged offenders\, while preserving the ability to 
 gather further evidence.
X-WR-RELCALID:85d0e7f7144e6b9ecd4efbfadbedfcaa
X-WR-TIMEZONE:America/New_York
BEGIN:VTIMEZONE
TZID:America/New_York
BEGIN:STANDARD
TZNAME:EST
DTSTART:20251102T020000
TZOFFSETFROM:-0400
TZOFFSETTO:-0500
RDATE:20261101T020000
RDATE:20271107T020000
END:STANDARD
BEGIN:DAYLIGHT
TZNAME:EDT
DTSTART:20260308T020000
TZOFFSETFROM:-0500
TZOFFSETTO:-0400
RDATE:20270314T020000
END:DAYLIGHT
END:VTIMEZONE
BEGIN:VEVENT
UID:3271ac8f-3210-48ff-9747-9caf7b10e8b5
DTSTAMP:20260424T172101Z
DESCRIPTION:York County CAC and Penn CAC are excited to provide Project FOR
 ECAST (Foundations for OutReach through Experiential Child Advocacy Studie
 s Training).\n\nThis free two-day training will provide the MDT with the o
 pportunity to navigate through a simulation of a child abuse investigation
 .\n\nDay 1 of the training (virtual) will explore the 12 core concepts of 
 understanding traumatic stress in children and families.\n\nDay 2 (in-pers
 on) will be a simulation of an abuse investigation: Go in-depth on a foren
 sic investigation with the case of nine-year old Samara Green. Participant
 s will learn how to identify\, gather\, and share information before makin
 g final recommendations for the case\, such as determining the need for ar
 rests or foster care. This scenario relies heavily on participant learning
  to carefully engage alleged offenders\, while preserving the ability to g
 ather further evidence.
DTSTART;TZID=America/New_York:20260527T060000
DTEND;TZID=America/New_York:20260528T060001
LOCATION:Newberry Township Police Department\, 1895 Old Trail Rd\, Etters\,
  PA 17319 US
SUMMARY:Project FORECAST
END:VEVENT
END:VCALENDAR
